BEGIN:VCALENDAR
VERSION:2.0
PRODID:-//Elmcor - ECPv6.15.20//NONSGML v1.0//EN
CALSCALE:GREGORIAN
METHOD:PUBLISH
X-ORIGINAL-URL:https://elmcor.org
X-WR-CALDESC:Events for Elmcor
REFRESH-INTERVAL;VALUE=DURATION:PT1H
X-Robots-Tag:noindex
X-PUBLISHED-TTL:PT1H
BEGIN:VTIMEZONE
TZID:America/Los_Angeles
BEGIN:DAYLIGHT
TZOFFSETFROM:-0800
TZOFFSETTO:-0700
TZNAME:PDT
DTSTART:20240310T100000
END:DAYLIGHT
BEGIN:STANDARD
TZOFFSETFROM:-0700
TZOFFSETTO:-0800
TZNAME:PST
DTSTART:20241103T090000
END:STANDARD
BEGIN:DAYLIGHT
TZOFFSETFROM:-0800
TZOFFSETTO:-0700
TZNAME:PDT
DTSTART:20250309T100000
END:DAYLIGHT
BEGIN:STANDARD
TZOFFSETFROM:-0700
TZOFFSETTO:-0800
TZNAME:PST
DTSTART:20251102T090000
END:STANDARD
BEGIN:DAYLIGHT
TZOFFSETFROM:-0800
TZOFFSETTO:-0700
TZNAME:PDT
DTSTART:20260308T100000
END:DAYLIGHT
BEGIN:STANDARD
TZOFFSETFROM:-0700
TZOFFSETTO:-0800
TZNAME:PST
DTSTART:20261101T090000
END:STANDARD
END:VTIMEZONE
BEGIN:VEVENT
DTSTART;TZID=America/Los_Angeles:20251009T170000
DTEND;TZID=America/Los_Angeles:20251009T200000
DTSTAMP:20260422T144950
CREATED:20251008T183911Z
LAST-MODIFIED:20251008T183911Z
UID:5421-1760029200-1760040000@elmcor.org
SUMMARY:Latinx Heritage Month Market and Festival
DESCRIPTION:
URL:https://elmcor.org/event/latinx-heritage-month-market-and-festival/
LOCATION:33-16 108th Street\, Corono\, NY 11368\, 33-16 108th St\,\, Corona\, New York\, 11368\, United States
ATTACH;FMTTYPE=image/webp:https://elmcor.org/wp-content/uploads/2025/10/LatinxMonth-English.webp
END:VEVENT
BEGIN:VEVENT
DTSTART;TZID=America/Los_Angeles:20251009T170000
DTEND;TZID=America/Los_Angeles:20251009T200000
DTSTAMP:20260422T144950
CREATED:20251008T183953Z
LAST-MODIFIED:20251008T184603Z
UID:5423-1760029200-1760040000@elmcor.org
SUMMARY:Mes De La Herencia Latina
DESCRIPTION:
URL:https://elmcor.org/event/mes-de-la-herencia-latina/
LOCATION:33-16 108th Street\, Corono\, NY 11368\, 33-16 108th St\,\, Corona\, New York\, 11368\, United States
ATTACH;FMTTYPE=image/webp:https://elmcor.org/wp-content/uploads/2025/10/LatinxMonth-Spanish.webp
END:VEVENT
BEGIN:VEVENT
DTSTART;TZID=America/Los_Angeles:20251014T180000
DTEND;TZID=America/Los_Angeles:20251014T200000
DTSTAMP:20260422T144950
CREATED:20251008T184751Z
LAST-MODIFIED:20251008T184813Z
UID:5430-1760464800-1760472000@elmcor.org
SUMMARY:Housing Resource Fair
DESCRIPTION:
URL:https://elmcor.org/event/housing-resource-fair/
LOCATION:34-49\, 107th Street\, Queens\, NY-11368\, 34-49\, 107th Street\, Queens\, NY\, 11368\, United States
ATTACH;FMTTYPE=image/png:https://elmcor.org/wp-content/uploads/2025/10/EnglishFlyer.png
END:VEVENT
BEGIN:VEVENT
DTSTART;TZID=America/Los_Angeles:20251014T180000
DTEND;TZID=America/Los_Angeles:20251014T200000
DTSTAMP:20260422T144950
CREATED:20251008T184906Z
LAST-MODIFIED:20251008T184928Z
UID:5429-1760464800-1760472000@elmcor.org
SUMMARY:Feria De Recursos De Vivienda
DESCRIPTION:
URL:https://elmcor.org/event/feria-de-recursos-de-vivienda/
LOCATION:34-49\, 107th Street\, Queens\, NY-11368\, 34-49\, 107th Street\, Queens\, NY\, 11368\, United States
ATTACH;FMTTYPE=image/png:https://elmcor.org/wp-content/uploads/2025/10/SpanishFlyer.png
END:VEVENT
BEGIN:VEVENT
DTSTART;TZID=America/Los_Angeles:20251031T170000
DTEND;TZID=America/Los_Angeles:20251031T200000
DTSTAMP:20260422T144950
CREATED:20251008T191340Z
LAST-MODIFIED:20251008T191340Z
UID:5441-1761930000-1761940800@elmcor.org
SUMMARY:Night of Safety Party
DESCRIPTION:
URL:https://elmcor.org/event/night-of-safety-party/
LOCATION:33-16 108th Street\, Corono\, NY 11368\, 33-16 108th St\,\, Corona\, New York\, 11368\, United States
ATTACH;FMTTYPE=image/jpeg:https://elmcor.org/wp-content/uploads/2025/10/Night-of-Safety-Party-Flyers-Eng.jpg
END:VEVENT
BEGIN:VEVENT
DTSTART;TZID=America/Los_Angeles:20251031T170000
DTEND;TZID=America/Los_Angeles:20251031T200000
DTSTAMP:20260422T144950
CREATED:20251008T191346Z
LAST-MODIFIED:20251008T191346Z
UID:5442-1761930000-1761940800@elmcor.org
SUMMARY:Fiesta De La Noche De La Segriad
DESCRIPTION:
URL:https://elmcor.org/event/fiesta-de-la-noche-de-la-segriad/
LOCATION:33-16 108th Street\, Corono\, NY 11368\, 33-16 108th St\,\, Corona\, New York\, 11368\, United States
ATTACH;FMTTYPE=image/jpeg:https://elmcor.org/wp-content/uploads/2025/10/Night-of-Safety-Party-Flyers-Spa.jpg
END:VEVENT
END:VCALENDAR