BEGIN:VCALENDAR
VERSION:2.0
PRODID:-//Elmcor - ECPv6.15.20//NONSGML v1.0//EN
CALSCALE:GREGORIAN
METHOD:PUBLISH
X-WR-CALNAME:Elmcor
X-ORIGINAL-URL:https://elmcor.org
X-WR-CALDESC:Events for Elmcor
REFRESH-INTERVAL;VALUE=DURATION:PT1H
X-Robots-Tag:noindex
X-PUBLISHED-TTL:PT1H
BEGIN:VTIMEZONE
TZID:America/Los_Angeles
BEGIN:DAYLIGHT
TZOFFSETFROM:-0800
TZOFFSETTO:-0700
TZNAME:PDT
DTSTART:20240310T100000
END:DAYLIGHT
BEGIN:STANDARD
TZOFFSETFROM:-0700
TZOFFSETTO:-0800
TZNAME:PST
DTSTART:20241103T090000
END:STANDARD
BEGIN:DAYLIGHT
TZOFFSETFROM:-0800
TZOFFSETTO:-0700
TZNAME:PDT
DTSTART:20250309T100000
END:DAYLIGHT
BEGIN:STANDARD
TZOFFSETFROM:-0700
TZOFFSETTO:-0800
TZNAME:PST
DTSTART:20251102T090000
END:STANDARD
BEGIN:DAYLIGHT
TZOFFSETFROM:-0800
TZOFFSETTO:-0700
TZNAME:PDT
DTSTART:20260308T100000
END:DAYLIGHT
BEGIN:STANDARD
TZOFFSETFROM:-0700
TZOFFSETTO:-0800
TZNAME:PST
DTSTART:20261101T090000
END:STANDARD
END:VTIMEZONE
BEGIN:VEVENT
DTSTART;TZID=America/Los_Angeles:20250619T120000
DTEND;TZID=America/Los_Angeles:20250619T190000
DTSTAMP:20260422T145629
CREATED:20250718T193124Z
LAST-MODIFIED:20250718T193624Z
UID:5342-1750334400-1750359600@elmcor.org
SUMMARY:Juneteenth
DESCRIPTION:
URL:https://elmcor.org/event/juneteenth/
ATTACH;FMTTYPE=image/webp:https://elmcor.org/wp-content/uploads/2025/07/JIQ-2025.webp
END:VEVENT
BEGIN:VEVENT
DTSTART;TZID=America/Los_Angeles:20250530T170000
DTEND;TZID=America/Los_Angeles:20250530T220000
DTSTAMP:20260422T145629
CREATED:20250718T194325Z
LAST-MODIFIED:20250718T194325Z
UID:5343-1748624400-1748642400@elmcor.org
SUMMARY:Mental Health Awareness-Past Event
DESCRIPTION:
URL:https://elmcor.org/event/mental-health-awareness-past-event/
ATTACH;FMTTYPE=image/webp:https://elmcor.org/wp-content/uploads/2025/07/Mind-Over-scaled.webp
END:VEVENT
BEGIN:VEVENT
DTSTART;TZID=America/Los_Angeles:20250519T140000
DTEND;TZID=America/Los_Angeles:20250519T160000
DTSTAMP:20260422T145629
CREATED:20250718T164150Z
LAST-MODIFIED:20250718T164150Z
UID:5198-1747663200-1747670400@elmcor.org
SUMMARY:Softball Tryouts
DESCRIPTION:
URL:https://elmcor.org/event/softball-tryouts-2/
LOCATION:33-16 108th Street\, Corona\, NY 11368\, 33-16 108th St\,\, Corona\, NY\, 11368\, United States
ATTACH;FMTTYPE=image/jpeg:https://elmcor.org/wp-content/uploads/2025/05/SoftballFlyer.jpg
END:VEVENT
BEGIN:VEVENT
DTSTART;TZID=America/Los_Angeles:20250516T060000
DTEND;TZID=America/Los_Angeles:20250516T200000
DTSTAMP:20260422T145629
CREATED:20250718T164150Z
LAST-MODIFIED:20250718T164150Z
UID:5196-1747375200-1747425600@elmcor.org
SUMMARY:Softball Tryouts
DESCRIPTION:
URL:https://elmcor.org/event/softball-tryouts/
LOCATION:33-16 108th Street\, Corona\, NY 11368\, 33-16 108th St\,\, Corona\, NY\, 11368\, United States
ATTACH;FMTTYPE=image/jpeg:https://elmcor.org/wp-content/uploads/2025/05/SoftballFlyer.jpg
END:VEVENT
BEGIN:VEVENT
DTSTART;TZID=America/Los_Angeles:20250430T170000
DTEND;TZID=America/Los_Angeles:20250430T220000
DTSTAMP:20260422T145629
CREATED:20250718T194809Z
LAST-MODIFIED:20250718T194809Z
UID:5364-1746032400-1746050400@elmcor.org
SUMMARY:Movie Night
DESCRIPTION:
URL:https://elmcor.org/event/movie-night-2/
ATTACH;FMTTYPE=image/jpeg:https://elmcor.org/wp-content/uploads/2025/07/Elmcor-Movie-Night-10.jpg
END:VEVENT
BEGIN:VEVENT
DTSTART;TZID=America/Los_Angeles:20250425T190000
DTEND;TZID=America/Los_Angeles:20250425T233000
DTSTAMP:20260422T145629
CREATED:20250718T164150Z
LAST-MODIFIED:20250718T164150Z
UID:5151-1745607600-1745623800@elmcor.org
SUMMARY:60th Anniversary Gala
DESCRIPTION:
URL:https://elmcor.org/event/60th-anniversary-gala/
ATTACH;FMTTYPE=image/jpeg:https://elmcor.org/wp-content/uploads/2025/03/Elmcor-60th-Anniversary-Gala-Invitation-scaled.jpg
ORGANIZER;CN="Ivoree Francis":MAILTO:i.francis@elmcor.org
END:VEVENT
BEGIN:VEVENT
DTSTART;TZID=America/Los_Angeles:20250326T170000
DTEND;TZID=America/Los_Angeles:20250326T220000
DTSTAMP:20260422T145629
CREATED:20250718T194647Z
LAST-MODIFIED:20250718T194647Z
UID:5352-1743008400-1743026400@elmcor.org
SUMMARY:Movie Night
DESCRIPTION:
URL:https://elmcor.org/event/movie-night/
ATTACH;FMTTYPE=image/jpeg:https://elmcor.org/wp-content/uploads/2025/07/Elmcor-Movie-Night-1.jpg
END:VEVENT
BEGIN:VEVENT
DTSTART;TZID=America/Los_Angeles:20250214T153000
DTEND;TZID=America/Los_Angeles:20250214T170000
DTSTAMP:20260422T145629
CREATED:20250718T194040Z
LAST-MODIFIED:20250718T194040Z
UID:5356-1739547000-1739552400@elmcor.org
SUMMARY:National Condom Day
DESCRIPTION:
URL:https://elmcor.org/event/national-condom-day/
ATTACH;FMTTYPE=image/webp:https://elmcor.org/wp-content/uploads/2025/07/National-Condom-Day-Flyer.webp
END:VEVENT
END:VCALENDAR