BEGIN:VCALENDAR
VERSION:2.0
PRODID:-//Elmcor - ECPv6.15.20//NONSGML v1.0//EN
CALSCALE:GREGORIAN
METHOD:PUBLISH
X-WR-CALNAME:Elmcor
X-ORIGINAL-URL:https://elmcor.org
X-WR-CALDESC:Events for Elmcor
REFRESH-INTERVAL;VALUE=DURATION:PT1H
X-Robots-Tag:noindex
X-PUBLISHED-TTL:PT1H
BEGIN:VTIMEZONE
TZID:America/Los_Angeles
BEGIN:DAYLIGHT
TZOFFSETFROM:-0800
TZOFFSETTO:-0700
TZNAME:PDT
DTSTART:20240310T100000
END:DAYLIGHT
BEGIN:STANDARD
TZOFFSETFROM:-0700
TZOFFSETTO:-0800
TZNAME:PST
DTSTART:20241103T090000
END:STANDARD
BEGIN:DAYLIGHT
TZOFFSETFROM:-0800
TZOFFSETTO:-0700
TZNAME:PDT
DTSTART:20250309T100000
END:DAYLIGHT
BEGIN:STANDARD
TZOFFSETFROM:-0700
TZOFFSETTO:-0800
TZNAME:PST
DTSTART:20251102T090000
END:STANDARD
BEGIN:DAYLIGHT
TZOFFSETFROM:-0800
TZOFFSETTO:-0700
TZNAME:PDT
DTSTART:20260308T100000
END:DAYLIGHT
BEGIN:STANDARD
TZOFFSETFROM:-0700
TZOFFSETTO:-0800
TZNAME:PST
DTSTART:20261101T090000
END:STANDARD
END:VTIMEZONE
BEGIN:VEVENT
DTSTART;TZID=America/Los_Angeles:20251031T170000
DTEND;TZID=America/Los_Angeles:20251031T200000
DTSTAMP:20260422T144913
CREATED:20251008T191340Z
LAST-MODIFIED:20251008T191340Z
UID:5441-1761930000-1761940800@elmcor.org
SUMMARY:Night of Safety Party
DESCRIPTION:
URL:https://elmcor.org/event/night-of-safety-party/
LOCATION:33-16 108th Street\, Corono\, NY 11368\, 33-16 108th St\,\, Corona\, New York\, 11368\, United States
ATTACH;FMTTYPE=image/jpeg:https://elmcor.org/wp-content/uploads/2025/10/Night-of-Safety-Party-Flyers-Eng.jpg
END:VEVENT
BEGIN:VEVENT
DTSTART;TZID=America/Los_Angeles:20251031T170000
DTEND;TZID=America/Los_Angeles:20251031T200000
DTSTAMP:20260422T144913
CREATED:20251008T191346Z
LAST-MODIFIED:20251008T191346Z
UID:5442-1761930000-1761940800@elmcor.org
SUMMARY:Fiesta De La Noche De La Segriad
DESCRIPTION:
URL:https://elmcor.org/event/fiesta-de-la-noche-de-la-segriad/
LOCATION:33-16 108th Street\, Corono\, NY 11368\, 33-16 108th St\,\, Corona\, New York\, 11368\, United States
ATTACH;FMTTYPE=image/jpeg:https://elmcor.org/wp-content/uploads/2025/10/Night-of-Safety-Party-Flyers-Spa.jpg
END:VEVENT
END:VCALENDAR