BEGIN:VCALENDAR
VERSION:2.0
PRODID:-//Elmcor - ECPv6.15.20//NONSGML v1.0//EN
CALSCALE:GREGORIAN
METHOD:PUBLISH
X-WR-CALNAME:Elmcor
X-ORIGINAL-URL:https://elmcor.org
X-WR-CALDESC:Events for Elmcor
REFRESH-INTERVAL;VALUE=DURATION:PT1H
X-Robots-Tag:noindex
X-PUBLISHED-TTL:PT1H
BEGIN:VTIMEZONE
TZID:America/Los_Angeles
BEGIN:DAYLIGHT
TZOFFSETFROM:-0800
TZOFFSETTO:-0700
TZNAME:PDT
DTSTART:20240310T100000
END:DAYLIGHT
BEGIN:STANDARD
TZOFFSETFROM:-0700
TZOFFSETTO:-0800
TZNAME:PST
DTSTART:20241103T090000
END:STANDARD
BEGIN:DAYLIGHT
TZOFFSETFROM:-0800
TZOFFSETTO:-0700
TZNAME:PDT
DTSTART:20250309T100000
END:DAYLIGHT
BEGIN:STANDARD
TZOFFSETFROM:-0700
TZOFFSETTO:-0800
TZNAME:PST
DTSTART:20251102T090000
END:STANDARD
BEGIN:DAYLIGHT
TZOFFSETFROM:-0800
TZOFFSETTO:-0700
TZNAME:PDT
DTSTART:20260308T100000
END:DAYLIGHT
BEGIN:STANDARD
TZOFFSETFROM:-0700
TZOFFSETTO:-0800
TZNAME:PST
DTSTART:20261101T090000
END:STANDARD
END:VTIMEZONE
BEGIN:VEVENT
DTSTART;TZID=America/Los_Angeles:20250708T120000
DTEND;TZID=America/Los_Angeles:20250828T190000
DTSTAMP:20260422T201610
CREATED:20250717T200417Z
LAST-MODIFIED:20250717T200534Z
UID:5252-1751976000-1756407600@elmcor.org
SUMMARY:Summer Series
DESCRIPTION:
URL:https://elmcor.org/event/summer-series/
LOCATION:33-16 108th Street\, Corono\, NY 11368\, 33-16 108th St\,\, Corona\, New York\, 11368\, United States
ATTACH;FMTTYPE=image/jpeg:https://elmcor.org/wp-content/uploads/2025/07/Elmcors-Summer-Series.jpg
END:VEVENT
BEGIN:VEVENT
DTSTART;TZID=America/Los_Angeles:20250726T120000
DTEND;TZID=America/Los_Angeles:20250726T170000
DTSTAMP:20260422T201610
CREATED:20250717T201306Z
LAST-MODIFIED:20250717T202001Z
UID:5261-1753531200-1753549200@elmcor.org
SUMMARY:Block Party
DESCRIPTION:
URL:https://elmcor.org/event/block-party/
LOCATION:Northern Boulevard\, 33-16 Northern Boulevard\, Corona\, NY\, 11368\, United States
ATTACH;FMTTYPE=image/jpeg:https://elmcor.org/wp-content/uploads/2025/07/BLOCK-PARTY-2025-flyer.jpg
ORGANIZER;CN="Nelson Ravel":MAILTO:n.ravel@elmcor.org
END:VEVENT
BEGIN:VEVENT
DTSTART;TZID=America/Los_Angeles:20250726T120000
DTEND;TZID=America/Los_Angeles:20250726T170000
DTSTAMP:20260422T201610
CREATED:20250717T202032Z
LAST-MODIFIED:20250717T202105Z
UID:5268-1753531200-1753549200@elmcor.org
SUMMARY:Fiesta De Bloque
DESCRIPTION:
URL:https://elmcor.org/event/fiesta-de-bloque/
ATTACH;FMTTYPE=image/jpeg:https://elmcor.org/wp-content/uploads/2025/07/BLOCK-PARTY-2025-flyer-2.jpg
END:VEVENT
BEGIN:VEVENT
DTSTART;TZID=America/Los_Angeles:20250726T180000
DTEND;TZID=America/Los_Angeles:20250726T203000
DTSTAMP:20260422T201610
CREATED:20250718T195026Z
LAST-MODIFIED:20250718T195312Z
UID:5351-1753552800-1753561800@elmcor.org
SUMMARY:People for the People Ball
DESCRIPTION:
URL:https://elmcor.org/event/people-for-the-people-ball/
ATTACH;FMTTYPE=image/jpeg:https://elmcor.org/wp-content/uploads/2025/07/Elmcor-Ball.jpg
END:VEVENT
END:VCALENDAR